BEGIN:VCALENDAR
VERSION:2.0
PRODID:-//Nasir Dickerson - ECPv6.15.17.1//NONSGML v1.0//EN
CALSCALE:GREGORIAN
METHOD:PUBLISH
X-ORIGINAL-URL:https://nasirdickerson.com
X-WR-CALDESC:Events for Nasir Dickerson
REFRESH-INTERVAL;VALUE=DURATION:PT1H
X-Robots-Tag:noindex
X-PUBLISHED-TTL:PT1H
BEGIN:VTIMEZONE
TZID:America/New_York
BEGIN:DAYLIGHT
TZOFFSETFROM:-0500
TZOFFSETTO:-0400
TZNAME:EDT
DTSTART:20220313T070000
END:DAYLIGHT
BEGIN:STANDARD
TZOFFSETFROM:-0400
TZOFFSETTO:-0500
TZNAME:EST
DTSTART:20221106T060000
END:STANDARD
BEGIN:DAYLIGHT
TZOFFSETFROM:-0500
TZOFFSETTO:-0400
TZNAME:EDT
DTSTART:20230312T070000
END:DAYLIGHT
BEGIN:STANDARD
TZOFFSETFROM:-0400
TZOFFSETTO:-0500
TZNAME:EST
DTSTART:20231105T060000
END:STANDARD
BEGIN:DAYLIGHT
TZOFFSETFROM:-0500
TZOFFSETTO:-0400
TZNAME:EDT
DTSTART:20240310T070000
END:DAYLIGHT
BEGIN:STANDARD
TZOFFSETFROM:-0400
TZOFFSETTO:-0500
TZNAME:EST
DTSTART:20241103T060000
END:STANDARD
END:VTIMEZONE
BEGIN:VEVENT
DTSTART;VALUE=DATE:20231027
DTEND;VALUE=DATE:20231030
DTSTAMP:20260423T124232
CREATED:20231025T020642Z
LAST-MODIFIED:20231026T183548Z
UID:10000738-1698372000-1698544799@nasirdickerson.com
SUMMARY:Sax and DJ party
DESCRIPTION:
URL:https://nasirdickerson.com/event/sax-and-dj-party-7/
LOCATION:Private
END:VEVENT
BEGIN:VEVENT
DTSTART;TZID=America/New_York:20231028T170000
DTEND;TZID=America/New_York:20231028T180000
DTSTAMP:20260423T124232
CREATED:20231025T020642Z
LAST-MODIFIED:20231028T215139Z
UID:10000737-1698512400-1698516000@nasirdickerson.com
SUMMARY:Sax and DJ party
DESCRIPTION:
URL:https://nasirdickerson.com/event/sax-and-dj-party-6/
LOCATION:Private
END:VEVENT
END:VCALENDAR