BEGIN:VCALENDAR
VERSION:2.0
PRODID:-//Nasir Dickerson - ECPv6.15.17.1//NONSGML v1.0//EN
CALSCALE:GREGORIAN
METHOD:PUBLISH
X-ORIGINAL-URL:https://nasirdickerson.com
X-WR-CALDESC:Events for Nasir Dickerson
REFRESH-INTERVAL;VALUE=DURATION:PT1H
X-Robots-Tag:noindex
X-PUBLISHED-TTL:PT1H
BEGIN:VTIMEZONE
TZID:US/Eastern
BEGIN:DAYLIGHT
TZOFFSETFROM:-0500
TZOFFSETTO:-0400
TZNAME:EDT
DTSTART:20230312T070000
END:DAYLIGHT
BEGIN:STANDARD
TZOFFSETFROM:-0400
TZOFFSETTO:-0500
TZNAME:EST
DTSTART:20231105T060000
END:STANDARD
BEGIN:DAYLIGHT
TZOFFSETFROM:-0500
TZOFFSETTO:-0400
TZNAME:EDT
DTSTART:20240310T070000
END:DAYLIGHT
BEGIN:STANDARD
TZOFFSETFROM:-0400
TZOFFSETTO:-0500
TZNAME:EST
DTSTART:20241103T060000
END:STANDARD
BEGIN:DAYLIGHT
TZOFFSETFROM:-0500
TZOFFSETTO:-0400
TZNAME:EDT
DTSTART:20250309T070000
END:DAYLIGHT
BEGIN:STANDARD
TZOFFSETFROM:-0400
TZOFFSETTO:-0500
TZNAME:EST
DTSTART:20251102T060000
END:STANDARD
END:VTIMEZONE
BEGIN:VEVENT
DTSTART;TZID=US/Eastern:20240608T180000
DTEND;TZID=US/Eastern:20240608T190000
DTSTAMP:20260420T042807
CREATED:20240508T033642Z
LAST-MODIFIED:20240606T125101Z
UID:10000778-1717869600-1717873200@nasirdickerson.com
SUMMARY:Islamic festival at Penn’s landing Cherry Hill Pier
DESCRIPTION:
URL:https://nasirdickerson.com/event/islamic-festival-at-penns-landing-cherry-hill-pier/
LOCATION:PA
END:VEVENT
BEGIN:VEVENT
DTSTART;TZID=US/Eastern:20240608T205000
DTEND;TZID=US/Eastern:20240608T220000
DTSTAMP:20260420T042807
CREATED:20240510T030554Z
LAST-MODIFIED:20240606T125101Z
UID:10000780-1717879800-1717884000@nasirdickerson.com
SUMMARY:With Arnetta Johnson
DESCRIPTION:
URL:https://nasirdickerson.com/event/with-arnetta-johnson/
LOCATION:Spruce Street Harbor Park\n301 S Columbus Blvd
END:VEVENT
END:VCALENDAR