BEGIN:VCALENDAR
VERSION:2.0
PRODID:-//Nasir Dickerson - ECPv6.15.17.1//NONSGML v1.0//EN
CALSCALE:GREGORIAN
METHOD:PUBLISH
X-WR-CALNAME:Nasir Dickerson
X-ORIGINAL-URL:https://nasirdickerson.com
X-WR-CALDESC:Events for Nasir Dickerson
REFRESH-INTERVAL;VALUE=DURATION:PT1H
X-Robots-Tag:noindex
X-PUBLISHED-TTL:PT1H
BEGIN:VTIMEZONE
TZID:America/New_York
BEGIN:DAYLIGHT
TZOFFSETFROM:-0500
TZOFFSETTO:-0400
TZNAME:EDT
DTSTART:20210314T070000
END:DAYLIGHT
BEGIN:STANDARD
TZOFFSETFROM:-0400
TZOFFSETTO:-0500
TZNAME:EST
DTSTART:20211107T060000
END:STANDARD
BEGIN:DAYLIGHT
TZOFFSETFROM:-0500
TZOFFSETTO:-0400
TZNAME:EDT
DTSTART:20220313T070000
END:DAYLIGHT
BEGIN:STANDARD
TZOFFSETFROM:-0400
TZOFFSETTO:-0500
TZNAME:EST
DTSTART:20221106T060000
END:STANDARD
BEGIN:DAYLIGHT
TZOFFSETFROM:-0500
TZOFFSETTO:-0400
TZNAME:EDT
DTSTART:20230312T070000
END:DAYLIGHT
BEGIN:STANDARD
TZOFFSETFROM:-0400
TZOFFSETTO:-0500
TZNAME:EST
DTSTART:20231105T060000
END:STANDARD
END:VTIMEZONE
BEGIN:VEVENT
DTSTART;TZID=America/New_York:20221014T173000
DTEND;TZID=America/New_York:20221014T193000
DTSTAMP:20260421T001931
CREATED:20221004T213031Z
LAST-MODIFIED:20221004T213031Z
UID:10000637-1665768600-1665775800@nasirdickerson.com
SUMMARY:Pink and Black Awareness Ball Aretha/Luther Tribute
DESCRIPTION:
URL:https://nasirdickerson.com/event/pink-and-black-awareness-ball-aretha-luther-tribute-2/
LOCATION:The Waterfalls Venue in Wilmington Delaware
END:VEVENT
BEGIN:VEVENT
DTSTART;TZID=America/New_York:20221014T173000
DTEND;TZID=America/New_York:20221014T193000
DTSTAMP:20260421T001931
CREATED:20221004T213030Z
LAST-MODIFIED:20221014T231257Z
UID:10000636-1665768600-1665775800@nasirdickerson.com
SUMMARY:Pink and Black Awareness Ball Aretha/Luther Tribute
DESCRIPTION:
URL:https://nasirdickerson.com/event/pink-and-black-awareness-ball-aretha-luther-tribute/
LOCATION:The Waterfalls Venue in Wilmington Delaware
END:VEVENT
BEGIN:VEVENT
DTSTART;TZID=America/New_York:20221014T100000
DTEND;TZID=America/New_York:20221014T140000
DTSTAMP:20260421T001931
CREATED:20220930T192349Z
LAST-MODIFIED:20221014T165531Z
UID:10000630-1665741600-1665756000@nasirdickerson.com
SUMMARY:Nasir Dickerson Life Light Empower Band @Cheyney University
DESCRIPTION:
URL:https://nasirdickerson.com/event/nasir-dickerson-life-light-empower-band-cheyney-university/
LOCATION:Cheyney University of Pennsylvania\n1837 University Cir\, Cheyney\, PA 19319\, United States
END:VEVENT
BEGIN:VEVENT
DTSTART;TZID=America/New_York:20221009T170000
DTEND;TZID=America/New_York:20221009T180000
DTSTAMP:20260421T001931
CREATED:20221007T043526Z
LAST-MODIFIED:20221009T205116Z
UID:10000642-1665334800-1665338400@nasirdickerson.com
SUMMARY:Nasir Dickerson at UCC Annual Awards Banquet
DESCRIPTION:
URL:https://nasirdickerson.com/event/nasir-dickerson-at-ucc-annual-awards-banquet/
LOCATION:PA
END:VEVENT
BEGIN:VEVENT
DTSTART;TZID=America/New_York:20221008T193000
DTEND;TZID=America/New_York:20221008T213000
DTSTAMP:20260421T001931
CREATED:20221004T213030Z
LAST-MODIFIED:20221009T010635Z
UID:10000635-1665257400-1665264600@nasirdickerson.com
SUMMARY:Nasir Dickerson with the Tina Marie/Rick James tribute band
DESCRIPTION:
URL:https://nasirdickerson.com/event/nasir-dickerson-with-the-tina-marie-rick-james-tribute-band/
LOCATION:Wilson’s Restaurant & Live Music Lounge\n709 S Warwick Rd\, Hi Nella\, NJ  08083\, United States
END:VEVENT
BEGIN:VEVENT
DTSTART;TZID=America/New_York:20221007T190000
DTEND;TZID=America/New_York:20221007T210000
DTSTAMP:20260421T001931
CREATED:20220930T192349Z
LAST-MODIFIED:20221008T000704Z
UID:10000629-1665169200-1665176400@nasirdickerson.com
SUMMARY:Nasir Dickerson Life Light Empower Band jazz on the grass
DESCRIPTION:
URL:https://nasirdickerson.com/event/nasir-dickerson-life-light-empower-band-jazz-on-the-grass/
LOCATION:WOODFORD TENNIS CLUB\n424 E Wister St\, Philadelphia\, PA  19144\, United States
END:VEVENT
BEGIN:VEVENT
DTSTART;TZID=America/New_York:20220930T200000
DTEND;TZID=America/New_York:20220930T220000
DTSTAMP:20260421T001931
CREATED:20220930T192349Z
LAST-MODIFIED:20220930T192349Z
UID:10000628-1664568000-1664575200@nasirdickerson.com
SUMMARY:Nasir Dickerson with Bobbi Storm at City Winery
DESCRIPTION:
URL:https://nasirdickerson.com/event/nasir-dickerson-with-bobbi-storm-at-city-winery/
LOCATION:City Winery\n990 Filbert St\, Philadelphia\, PA 19107\, United States
END:VEVENT
BEGIN:VEVENT
DTSTART;TZID=America/New_York:20220820T160000
DTEND;TZID=America/New_York:20220820T203000
DTSTAMP:20260421T001931
CREATED:20220721T115449Z
LAST-MODIFIED:20220930T192501Z
UID:10000428-1661011200-1661027400@nasirdickerson.com
SUMMARY:Nasir Dickerson with Mike Carthan Band
DESCRIPTION:
URL:https://nasirdickerson.com/event/nasir-dickerson-with-mike-carthan-band/
LOCATION:89 Claremont Rd\nFranklin Park\, NJ\, United States
END:VEVENT
BEGIN:VEVENT
DTSTART;TZID=America/New_York:20220814T140000
DTEND;TZID=America/New_York:20220814T150000
DTSTAMP:20260421T001931
CREATED:20220714T161644Z
LAST-MODIFIED:20220930T192504Z
UID:10000424-1660485600-1660489200@nasirdickerson.com
SUMMARY:Nasir Dickerson’s “Life Light Empower” Band @ Willingboro Jazz Festival
DESCRIPTION:
URL:https://nasirdickerson.com/event/nasir-dickersons-life-light-empower-band-willingboro-jazz-festival/
LOCATION:PA
END:VEVENT
BEGIN:VEVENT
DTSTART;VALUE=DATE:20220813
DTEND;VALUE=DATE:20220814
DTSTAMP:20260421T001931
CREATED:20220709T165142Z
LAST-MODIFIED:20220930T192508Z
UID:10000422-1660348800-1660435199@nasirdickerson.com
SUMMARY:Private Wedding Reception
DESCRIPTION:
URL:https://nasirdickerson.com/event/idea-arts-center/
LOCATION:PA
END:VEVENT
BEGIN:VEVENT
DTSTART;TZID=America/New_York:20220730T180000
DTEND;TZID=America/New_York:20220730T200000
DTSTAMP:20260421T001931
CREATED:20220721T115449Z
LAST-MODIFIED:20220930T192512Z
UID:10000618-1659204000-1659211200@nasirdickerson.com
SUMMARY:Nasir Dickerson with Grace Little band
DESCRIPTION:
URL:https://nasirdickerson.com/event/nasir-dickerson-with-grace-little-band/
LOCATION:205 W State St\nTrenton\, NJ\, United States
END:VEVENT
BEGIN:VEVENT
DTSTART;TZID=America/New_York:20220723T120000
DTEND;TZID=America/New_York:20220723T140000
DTSTAMP:20260421T001931
CREATED:20220709T165142Z
LAST-MODIFIED:20220930T192511Z
UID:10000421-1658577600-1658584800@nasirdickerson.com
SUMMARY:Private party
DESCRIPTION:
URL:https://nasirdickerson.com/event/private-party/
LOCATION:PA
END:VEVENT
BEGIN:VEVENT
DTSTART;TZID=America/New_York:20220721T170000
DTEND;TZID=America/New_York:20220721T220000
DTSTAMP:20260421T001931
CREATED:20220721T023927Z
LAST-MODIFIED:20220930T192515Z
UID:10000427-1658422800-1658440800@nasirdickerson.com
SUMMARY:Recording session for the Philadelphia Eagles
DESCRIPTION:
URL:https://nasirdickerson.com/event/recording-session-for-the-philadelphia-eagles/
LOCATION:PA
END:VEVENT
BEGIN:VEVENT
DTSTART;TZID=America/New_York:20220718T080000
DTEND;TZID=America/New_York:20220722T150000
DTSTAMP:20260421T001931
CREATED:20220709T165142Z
LAST-MODIFIED:20220930T192522Z
UID:10000420-1658131200-1658502000@nasirdickerson.com
SUMMARY:Artist in Residence for Arnetta Johnson’s Music Camp
DESCRIPTION:
URL:https://nasirdickerson.com/event/artist-in-residence-for-arnetta-johnsons-music-camp/
LOCATION:PA
END:VEVENT
BEGIN:VEVENT
DTSTART;TZID=America/New_York:20220716T220000
DTEND;TZID=America/New_York:20220717T020000
DTSTAMP:20260421T001931
CREATED:20220716T160709Z
LAST-MODIFIED:20220930T192518Z
UID:10000425-1658008800-1658023200@nasirdickerson.com
SUMMARY:Time Jazz Bar with Jerry Tate
DESCRIPTION:
URL:https://nasirdickerson.com/event/time-jazz-bar-with-jerry-tate/
LOCATION:PA
END:VEVENT
BEGIN:VEVENT
DTSTART;TZID=America/New_York:20220716T130000
DTEND;TZID=America/New_York:20220716T150000
DTSTAMP:20260421T001931
CREATED:20220709T155109Z
LAST-MODIFIED:20220930T192521Z
UID:10000419-1657976400-1657983600@nasirdickerson.com
SUMMARY:Saunders park with Allen Nelson\, Alfie Pollite & Richard Hill
DESCRIPTION:
URL:https://nasirdickerson.com/event/saunders-park-with-allen-nelson-alfie-pollite-richard-hill/
LOCATION:PA
END:VEVENT
END:VCALENDAR