BEGIN:VCALENDAR
VERSION:2.0
PRODID:-//Nasir Dickerson - ECPv6.15.17.1//NONSGML v1.0//EN
CALSCALE:GREGORIAN
METHOD:PUBLISH
X-ORIGINAL-URL:https://nasirdickerson.com
X-WR-CALDESC:Events for Nasir Dickerson
REFRESH-INTERVAL;VALUE=DURATION:PT1H
X-Robots-Tag:noindex
X-PUBLISHED-TTL:PT1H
BEGIN:VTIMEZONE
TZID:US/Eastern
BEGIN:DAYLIGHT
TZOFFSETFROM:-0500
TZOFFSETTO:-0400
TZNAME:EDT
DTSTART:20240310T070000
END:DAYLIGHT
BEGIN:STANDARD
TZOFFSETFROM:-0400
TZOFFSETTO:-0500
TZNAME:EST
DTSTART:20241103T060000
END:STANDARD
BEGIN:DAYLIGHT
TZOFFSETFROM:-0500
TZOFFSETTO:-0400
TZNAME:EDT
DTSTART:20250309T070000
END:DAYLIGHT
BEGIN:STANDARD
TZOFFSETFROM:-0400
TZOFFSETTO:-0500
TZNAME:EST
DTSTART:20251102T060000
END:STANDARD
BEGIN:DAYLIGHT
TZOFFSETFROM:-0500
TZOFFSETTO:-0400
TZNAME:EDT
DTSTART:20260308T070000
END:DAYLIGHT
BEGIN:STANDARD
TZOFFSETFROM:-0400
TZOFFSETTO:-0500
TZNAME:EST
DTSTART:20261101T060000
END:STANDARD
END:VTIMEZONE
BEGIN:VTIMEZONE
TZID:America/New_York
BEGIN:DAYLIGHT
TZOFFSETFROM:-0500
TZOFFSETTO:-0400
TZNAME:EDT
DTSTART:20240310T070000
END:DAYLIGHT
BEGIN:STANDARD
TZOFFSETFROM:-0400
TZOFFSETTO:-0500
TZNAME:EST
DTSTART:20241103T060000
END:STANDARD
BEGIN:DAYLIGHT
TZOFFSETFROM:-0500
TZOFFSETTO:-0400
TZNAME:EDT
DTSTART:20250309T070000
END:DAYLIGHT
BEGIN:STANDARD
TZOFFSETFROM:-0400
TZOFFSETTO:-0500
TZNAME:EST
DTSTART:20251102T060000
END:STANDARD
BEGIN:DAYLIGHT
TZOFFSETFROM:-0500
TZOFFSETTO:-0400
TZNAME:EDT
DTSTART:20260308T070000
END:DAYLIGHT
BEGIN:STANDARD
TZOFFSETFROM:-0400
TZOFFSETTO:-0500
TZNAME:EST
DTSTART:20261101T060000
END:STANDARD
END:VTIMEZONE
BEGIN:VEVENT
DTSTART;TZID=US/Eastern:20250416T180000
DTEND;TZID=US/Eastern:20250416T190000
DTSTAMP:20260420T043826
CREATED:20250416T132056Z
LAST-MODIFIED:20250416T223601Z
UID:10000858-1744826400-1744830000@nasirdickerson.com
SUMMARY:Free Music Concert with Ruth Naomi Floyd & Aaron Graves
DESCRIPTION:
URL:https://nasirdickerson.com/event/free-music-concert-with-ruth-naomi-floyd-aaron-graves/
LOCATION:101 E Chelten Ave\nPhiladelphia\, PA\, United States
END:VEVENT
BEGIN:VEVENT
DTSTART;TZID=US/Eastern:20250424T183000
DTEND;TZID=US/Eastern:20250424T203000
DTSTAMP:20260420T043826
CREATED:20250409T172058Z
LAST-MODIFIED:20250425T002210Z
UID:10000857-1745519400-1745526600@nasirdickerson.com
SUMMARY:With Adam Faulk
DESCRIPTION:
URL:https://nasirdickerson.com/event/with-adam-faulk/
LOCATION:Olivet Covenant Presbyterian Church 608 N 22nd St\, Philadelphia\, PA\, United States
GEO:39.967935;-75.176073
END:VEVENT
BEGIN:VEVENT
DTSTART;TZID=US/Eastern:20250509T193000
DTEND;TZID=US/Eastern:20250509T233000
DTSTAMP:20260420T043826
CREATED:20250228T035056Z
LAST-MODIFIED:20250510T032052Z
UID:10000849-1746819000-1746833400@nasirdickerson.com
SUMMARY:Sax and DJ party
DESCRIPTION:
URL:https://nasirdickerson.com/event/sax-and-dj-party-17/
LOCATION:Private
END:VEVENT
BEGIN:VEVENT
DTSTART;TZID=America/New_York:20250517T190000
DTEND;TZID=America/New_York:20250517T200000
DTSTAMP:20260420T043826
CREATED:20250407T195044Z
LAST-MODIFIED:20250517T233613Z
UID:10000855-1747508400-1747512000@nasirdickerson.com
SUMMARY:Nasir Dickerson Life Light Empower at Painted Bride/Fallser Club
DESCRIPTION:
URL:https://nasirdickerson.com/event/nasir-dickerson-life-light-empower-at-the-painted-bride/
LOCATION:The Fallser Club\n3721 Midvale Ave
END:VEVENT
BEGIN:VEVENT
DTSTART;TZID=US/Eastern:20250607T180000
DTEND;TZID=US/Eastern:20250607T233000
DTSTAMP:20260420T043826
CREATED:20250228T035056Z
LAST-MODIFIED:20250608T030547Z
UID:10000850-1749319200-1749339000@nasirdickerson.com
SUMMARY:Sax and DJ party
DESCRIPTION:
URL:https://nasirdickerson.com/event/sax-and-dj-party-18/
LOCATION:Private
END:VEVENT
BEGIN:VEVENT
DTSTART;TZID=America/New_York:20250612T190000
DTEND;TZID=America/New_York:20250612T230000
DTSTAMP:20260420T043826
CREATED:20250611T133547Z
LAST-MODIFIED:20250613T023547Z
UID:10000867-1749754800-1749769200@nasirdickerson.com
SUMMARY:Private party
DESCRIPTION:
URL:https://nasirdickerson.com/event/private-party-5/
LOCATION:1800 Walnut St\nPhiladelphia\, PA\, United States
END:VEVENT
BEGIN:VEVENT
DTSTART;TZID=America/New_York:20250619T183000
DTEND;TZID=America/New_York:20250619T223000
DTSTAMP:20260420T043826
CREATED:20250525T132047Z
LAST-MODIFIED:20250620T022121Z
UID:10000862-1750357800-1750372200@nasirdickerson.com
SUMMARY:Nasir Dickerson Life Light Empower
DESCRIPTION:
URL:https://nasirdickerson.com/event/nasir-dickerson-life-light-empower/
LOCATION:South Jazz Club 600 N Broad St\, Philadelphia\, PA\, United States
GEO:39.967935;-75.176073
END:VEVENT
BEGIN:VEVENT
DTSTART;TZID=America/New_York:20250621T150000
DTEND;TZID=America/New_York:20250621T170000
DTSTAMP:20260420T043826
CREATED:20250430T183653Z
LAST-MODIFIED:20250601T123545Z
UID:10000859-1750518000-1750525200@nasirdickerson.com
SUMMARY:With Aaron Graves
DESCRIPTION:
URL:https://nasirdickerson.com/event/with-aaron-graves/
LOCATION:Germantown Ave & W Gowen Ave\nPhiladelphia\, PA\, United States
END:VEVENT
BEGIN:VEVENT
DTSTART;TZID=America/New_York:20250622T093000
DTEND;TZID=America/New_York:20250622T110000
DTSTAMP:20260420T043826
CREATED:20250430T183653Z
LAST-MODIFIED:20250622T145047Z
UID:10000860-1750584600-1750590000@nasirdickerson.com
SUMMARY:With Aaron Graves
DESCRIPTION:
URL:https://nasirdickerson.com/event/with-aaron-graves-2/
LOCATION:Germantown Ave & W Gowen Ave\nPhiladelphia\, PA\, United States
END:VEVENT
BEGIN:VEVENT
DTSTART;TZID=US/Eastern:20250627T190000
DTEND;TZID=US/Eastern:20250627T220000
DTSTAMP:20260420T043826
CREATED:20250527T173554Z
LAST-MODIFIED:20250628T013645Z
UID:10000864-1751050800-1751061600@nasirdickerson.com
SUMMARY:With Marvin Sapp Wawa Welcome America Gospel show
DESCRIPTION:
URL:https://nasirdickerson.com/event/with-marvin-sapp-wawa-welcome-america-gospel-show/
LOCATION:Independence Mall State Park 599 Market St\, Philadelphia\, PA\, United States
GEO:39.950004;-75.150071
END:VEVENT
BEGIN:VEVENT
DTSTART;VALUE=DATE:20250628
DTEND;VALUE=DATE:20250630
DTSTAMP:20260420T043826
CREATED:20250525T132048Z
LAST-MODIFIED:20250628T232053Z
UID:10000863-1751076000-1751162399@nasirdickerson.com
SUMMARY:Hampton Jazz & Music Festival w/ Jeff Bradshaw
DESCRIPTION:
URL:https://nasirdickerson.com/event/hampton-jazz-music-festival-w-jeff-bradshaw/
LOCATION:Hampton Coliseum 1000 Coliseum Dr\, Hampton\, VA\, United States
GEO:37.060646;-76.371616
END:VEVENT
BEGIN:VEVENT
DTSTART;TZID=US/Eastern:20250628T223000
DTEND;TZID=US/Eastern:20250629T010000
DTSTAMP:20260420T043826
CREATED:20250228T035056Z
LAST-MODIFIED:20250529T182153Z
UID:10000851-1751149800-1751158800@nasirdickerson.com
SUMMARY:Sax and DJ party
DESCRIPTION:
URL:https://nasirdickerson.com/event/sax-and-dj-party-19/
LOCATION:Private
END:VEVENT
BEGIN:VEVENT
DTSTART;VALUE=DATE:20250704
DTEND;VALUE=DATE:20250706
DTSTAMP:20260420T043826
CREATED:20250703T122159Z
LAST-MODIFIED:20250704T235045Z
UID:10000877-1751594400-1751680799@nasirdickerson.com
SUMMARY:Essence Festival with Ms. Lauryn Hill
DESCRIPTION:
URL:https://nasirdickerson.com/event/essence-festival-with-ms-lauryn-hill/
LOCATION:New Orleans Superdome 1500 Sugar Bowl Dr\, New Orleans\, LA\, United States
GEO:29.958304;-90.077
END:VEVENT
BEGIN:VEVENT
DTSTART;TZID=US/Eastern:20250705T150000
DTEND;TZID=US/Eastern:20250705T190000
DTSTAMP:20260420T043826
CREATED:20250628T185046Z
LAST-MODIFIED:20250705T223555Z
UID:10000870-1751727600-1751742000@nasirdickerson.com
SUMMARY:Private party
DESCRIPTION:
URL:https://nasirdickerson.com/event/private-party-6/
END:VEVENT
BEGIN:VEVENT
DTSTART;TZID=US/Eastern:20250710T190000
DTEND;TZID=US/Eastern:20250710T200000
DTSTAMP:20260420T043826
CREATED:20250628T192049Z
LAST-MODIFIED:20250708T162143Z
UID:10000871-1752174000-1752177600@nasirdickerson.com
SUMMARY:With Jeff Bradshaw
DESCRIPTION:
URL:https://nasirdickerson.com/event/with-jeff-bradshaw-9/
LOCATION:The Dell Music Center 2400 Strawberry Mansion Dr\, Philadelphia\, PA\, United States
GEO:39.996262;-75.170855
END:VEVENT
BEGIN:VEVENT
DTSTART;TZID=US/Eastern:20250711T190000
DTEND;TZID=US/Eastern:20250713T230000
DTSTAMP:20260420T043826
CREATED:20250605T215120Z
LAST-MODIFIED:20250714T023552Z
UID:10000865-1752260400-1752447600@nasirdickerson.com
SUMMARY:With Nicole Henry at South Jazz Kitchen
DESCRIPTION:
URL:https://nasirdickerson.com/event/with-nicole-henry-at-south-jazz-kitchen/
LOCATION:South Jazz Club 600 N Broad St\, Philadelphia\, PA\, United States
GEO:39.967935;-75.176073
END:VEVENT
BEGIN:VEVENT
DTSTART;TZID=US/Eastern:20250714T110000
DTEND;TZID=US/Eastern:20250714T150000
DTSTAMP:20260420T043826
CREATED:20250624T210739Z
LAST-MODIFIED:20250714T183600Z
UID:10000869-1752490800-1752505200@nasirdickerson.com
SUMMARY:Arnetta Band Camp
DESCRIPTION:
URL:https://nasirdickerson.com/event/arnetta-band-camp/
END:VEVENT
BEGIN:VEVENT
DTSTART;TZID=US/Eastern:20250715T110000
DTEND;TZID=US/Eastern:20250715T150000
DTSTAMP:20260420T043826
CREATED:20250710T143546Z
LAST-MODIFIED:20250715T183701Z
UID:10000879-1752577200-1752591600@nasirdickerson.com
SUMMARY:Arnetta band Camp
DESCRIPTION:
URL:https://nasirdickerson.com/event/arnetta-band-camp-2/
END:VEVENT
BEGIN:VEVENT
DTSTART;TZID=US/Eastern:20250716T110000
DTEND;TZID=US/Eastern:20250716T150000
DTSTAMP:20260420T043826
CREATED:20250710T143546Z
LAST-MODIFIED:20250716T183614Z
UID:10000880-1752663600-1752678000@nasirdickerson.com
SUMMARY:Arnetta Band Camp
DESCRIPTION:
URL:https://nasirdickerson.com/event/arnetta-band-camp-3/
END:VEVENT
BEGIN:VEVENT
DTSTART;TZID=America/New_York:20250718T090000
DTEND;TZID=America/New_York:20250718T100000
DTSTAMP:20260420T043826
CREATED:20250502T162131Z
LAST-MODIFIED:20250716T213548Z
UID:10000861-1752829200-1752832800@nasirdickerson.com
SUMMARY:Lake Arbor Jazz Festival with Gerald Veasley
DESCRIPTION:
URL:https://nasirdickerson.com/event/lake-arbor-jazz-festival-with-gerald-veasley/
LOCATION:Maryland\nUnited States
END:VEVENT
BEGIN:VEVENT
DTSTART;VALUE=DATE:20250726
DTEND;VALUE=DATE:20250728
DTSTAMP:20260420T043826
CREATED:20250706T010557Z
LAST-MODIFIED:20250726T235318Z
UID:10000878-1753495200-1753581599@nasirdickerson.com
SUMMARY:Wedding
DESCRIPTION:
URL:https://nasirdickerson.com/event/wedding-4/
LOCATION:Upstate New York\nUnited States
END:VEVENT
BEGIN:VEVENT
DTSTART;TZID=US/Eastern:20250807T180000
DTEND;TZID=US/Eastern:20250807T190000
DTSTAMP:20260420T043826
CREATED:20250630T185050Z
LAST-MODIFIED:20250807T223544Z
UID:10000874-1754589600-1754593200@nasirdickerson.com
SUMMARY:With Maysa Leak
DESCRIPTION:
URL:https://nasirdickerson.com/event/with-maysa-leak-6/
LOCATION:The Dell Music Center 2400 Strawberry Mansion Dr\, Philadelphia\, PA\, United States
GEO:39.996262;-75.170855
END:VEVENT
BEGIN:VEVENT
DTSTART;VALUE=DATE:20250809
DTEND;VALUE=DATE:20250811
DTSTAMP:20260420T043826
CREATED:20250630T185050Z
LAST-MODIFIED:20250809T235047Z
UID:10000875-1754704800-1754791199@nasirdickerson.com
SUMMARY:With Maysa Leak
DESCRIPTION:
URL:https://nasirdickerson.com/event/with-maysa-leak-7/
LOCATION:Havre De Grace\nUnited States
END:VEVENT
BEGIN:VEVENT
DTSTART;TZID=US/Eastern:20250813T190000
DTEND;TZID=US/Eastern:20250813T200000
DTSTAMP:20260420T043826
CREATED:20250214T232044Z
LAST-MODIFIED:20250811T175051Z
UID:10000847-1755111600-1755115200@nasirdickerson.com
SUMMARY:With Jeff Bradshaw @ Boardwalk Hall
DESCRIPTION:
URL:https://nasirdickerson.com/event/with-jeff-bradshaw-boardwalk-hall/
LOCATION:Boardwalk Hall\nAtlantic City\, New Jersey
END:VEVENT
BEGIN:VEVENT
DTSTART;TZID=US/Eastern:20250816T180000
DTEND;TZID=US/Eastern:20250816T223000
DTSTAMP:20260420T043826
CREATED:20250813T202051Z
LAST-MODIFIED:20250817T020549Z
UID:10000885-1755367200-1755383400@nasirdickerson.com
SUMMARY:Wedding
DESCRIPTION:
URL:https://nasirdickerson.com/event/wedding-5/
LOCATION:Tyler Arboretum 515 Painter Rd\, Media\, PA\, United States
GEO:39.918804;-75.399118
END:VEVENT
BEGIN:VEVENT
DTSTART;TZID=America/New_York:20250817T130000
DTEND;TZID=America/New_York:20250817T170000
DTSTAMP:20260420T043826
CREATED:20250605T215120Z
LAST-MODIFIED:20250817T202046Z
UID:10000866-1755435600-1755450000@nasirdickerson.com
SUMMARY:Senator Shariff Street Back Yard Party
DESCRIPTION:
URL:https://nasirdickerson.com/event/senator-shariff-street-back-yard-party-2/
END:VEVENT
BEGIN:VEVENT
DTSTART;TZID=US/Eastern:20250820T200000
DTEND;TZID=US/Eastern:20250820T223000
DTSTAMP:20260420T043826
CREATED:20250809T012045Z
LAST-MODIFIED:20250821T020546Z
UID:10000882-1755720000-1755729000@nasirdickerson.com
SUMMARY:With V Shayne Fredericks
DESCRIPTION:
URL:https://nasirdickerson.com/event/with-v-shayne-fredericks/
LOCATION:Parx Casino 2999 Street Rd\, Bensalem\, PA\, United States
GEO:40.10455;-74.95128
END:VEVENT
BEGIN:VEVENT
DTSTART;TZID=US/Eastern:20250823T190000
DTEND;TZID=US/Eastern:20250823T200000
DTSTAMP:20260420T043826
CREATED:20250818T110548Z
LAST-MODIFIED:20250823T235048Z
UID:10000887-1755975600-1755979200@nasirdickerson.com
SUMMARY:Sax and DJ Hour
DESCRIPTION:
URL:https://nasirdickerson.com/event/sax-and-dj-hour-2/
END:VEVENT
BEGIN:VEVENT
DTSTART;VALUE=DATE:20250830
DTEND;VALUE=DATE:20250901
DTSTAMP:20260420T043826
CREATED:20250630T185051Z
LAST-MODIFIED:20250830T233614Z
UID:10000876-1756519200-1756605599@nasirdickerson.com
SUMMARY:With Maysa Leak
DESCRIPTION:
URL:https://nasirdickerson.com/event/with-maysa-leak-8/
LOCATION:Robins Theatre 160 E. Market St\, Warren\, OH\, United States
GEO:41.176641;-80.902344
END:VEVENT
BEGIN:VEVENT
DTSTART;VALUE=DATE:20250903
DTEND;VALUE=DATE:20250909
DTSTAMP:20260420T043826
CREATED:20250830T200548Z
LAST-MODIFIED:20250907T235058Z
UID:10000895-1756864800-1757296799@nasirdickerson.com
SUMMARY:Brazil with Ms. Lauryn Hill
DESCRIPTION:
URL:https://nasirdickerson.com/event/brazil-with-ms-lauryn-hill/
LOCATION:Brazil
END:VEVENT
END:VCALENDAR