BEGIN:VCALENDAR
VERSION:2.0
PRODID:-//Nasir Dickerson - ECPv6.15.17.1//NONSGML v1.0//EN
CALSCALE:GREGORIAN
METHOD:PUBLISH
X-WR-CALNAME:Nasir Dickerson
X-ORIGINAL-URL:https://nasirdickerson.com
X-WR-CALDESC:Events for Nasir Dickerson
REFRESH-INTERVAL;VALUE=DURATION:PT1H
X-Robots-Tag:noindex
X-PUBLISHED-TTL:PT1H
BEGIN:VTIMEZONE
TZID:America/New_York
BEGIN:DAYLIGHT
TZOFFSETFROM:-0500
TZOFFSETTO:-0400
TZNAME:EDT
DTSTART:20220313T070000
END:DAYLIGHT
BEGIN:STANDARD
TZOFFSETFROM:-0400
TZOFFSETTO:-0500
TZNAME:EST
DTSTART:20221106T060000
END:STANDARD
BEGIN:DAYLIGHT
TZOFFSETFROM:-0500
TZOFFSETTO:-0400
TZNAME:EDT
DTSTART:20230312T070000
END:DAYLIGHT
BEGIN:STANDARD
TZOFFSETFROM:-0400
TZOFFSETTO:-0500
TZNAME:EST
DTSTART:20231105T060000
END:STANDARD
BEGIN:DAYLIGHT
TZOFFSETFROM:-0500
TZOFFSETTO:-0400
TZNAME:EDT
DTSTART:20240310T070000
END:DAYLIGHT
BEGIN:STANDARD
TZOFFSETFROM:-0400
TZOFFSETTO:-0500
TZNAME:EST
DTSTART:20241103T060000
END:STANDARD
BEGIN:DAYLIGHT
TZOFFSETFROM:-0500
TZOFFSETTO:-0400
TZNAME:EDT
DTSTART:20250309T070000
END:DAYLIGHT
BEGIN:STANDARD
TZOFFSETFROM:-0400
TZOFFSETTO:-0500
TZNAME:EST
DTSTART:20251102T060000
END:STANDARD
END:VTIMEZONE
BEGIN:VEVENT
DTSTART;VALUE=DATE:20240229
DTEND;VALUE=DATE:20240303
DTSTAMP:20260420T092728
CREATED:20240120T122053Z
LAST-MODIFIED:20240201T142725Z
UID:10000749-1709172000-1709344799@nasirdickerson.com
SUMMARY:Maysa Leak Tour
DESCRIPTION:
URL:https://nasirdickerson.com/event/maysa-tour/
END:VEVENT
BEGIN:VEVENT
DTSTART;VALUE=DATE:20240228
DTEND;VALUE=DATE:20240302
DTSTAMP:20260420T092728
CREATED:20240120T122053Z
LAST-MODIFIED:20240229T235155Z
UID:10000748-1709085600-1709258399@nasirdickerson.com
SUMMARY:Maysa Leak Tour
DESCRIPTION:
URL:https://nasirdickerson.com/event/maysa-leak-tour-3/
LOCATION:Detroit\nUnited States
END:VEVENT
BEGIN:VEVENT
DTSTART;VALUE=DATE:20240226
DTEND;VALUE=DATE:20240229
DTSTAMP:20260420T092728
CREATED:20240120T122053Z
LAST-MODIFIED:20240207T005128Z
UID:10000746-1708912800-1709085599@nasirdickerson.com
SUMMARY:Maysa Leak Tour
DESCRIPTION:
URL:https://nasirdickerson.com/event/maysa-leak-tour/
LOCATION:Belgrade\nUnited States
END:VEVENT
BEGIN:VEVENT
DTSTART;VALUE=DATE:20240223
DTEND;VALUE=DATE:20240227
DTSTAMP:20260420T092728
CREATED:20240120T122053Z
LAST-MODIFIED:20240207T005128Z
UID:10000747-1708653600-1708912799@nasirdickerson.com
SUMMARY:Maysa Leak Tour
DESCRIPTION:
URL:https://nasirdickerson.com/event/maysa-leak-tour-2/
LOCATION:Los Angeles\nUnited States
END:VEVENT
BEGIN:VEVENT
DTSTART;TZID=America/New_York:20240113T140000
DTEND;TZID=America/New_York:20240113T160000
DTSTAMP:20260420T092728
CREATED:20231119T182046Z
LAST-MODIFIED:20240113T205113Z
UID:10000742-1705154400-1705161600@nasirdickerson.com
SUMMARY:An Afternoon of Jazz\, Sass & Class with Barbara Mills\, Sherry Butler and more
DESCRIPTION:
URL:https://nasirdickerson.com/event/an-afternoon-of-jazz-sass-class-with-barbara-mills-sherry-butler-and-more/
LOCATION:208 Dekalb St\nNorristown\, PA\, United States
END:VEVENT
BEGIN:VEVENT
DTSTART;TZID=America/New_York:20231229T190000
DTEND;TZID=America/New_York:20231229T200000
DTSTAMP:20260420T092728
CREATED:20230913T195055Z
LAST-MODIFIED:20231220T120551Z
UID:10000725-1703876400-1703880000@nasirdickerson.com
SUMMARY:Nasir Dickerson Life Light Empower at Boss mentors sneakers Gala
DESCRIPTION:
URL:https://nasirdickerson.com/event/nasir-dickerson-life-light-empower-at-boss-mentors-sneakers-gala-2/
LOCATION:DoubleTree by Hilton Cherry Hill Philadelphia 2349 Marlton Pike W\, Cherry Hill\, NJ\, United States
GEO:39.931978;-75.027557
END:VEVENT
BEGIN:VEVENT
DTSTART;VALUE=DATE:20231215
DTEND;VALUE=DATE:20231220
DTSTAMP:20260420T092728
CREATED:20231130T153543Z
LAST-MODIFIED:20231215T120602Z
UID:10000745-1702605600-1702951199@nasirdickerson.com
SUMMARY:Sax and DJ party
DESCRIPTION:
URL:https://nasirdickerson.com/event/sax-and-dj-party-10/
LOCATION:Private
END:VEVENT
BEGIN:VEVENT
DTSTART;TZID=America/New_York:20231202T190000
DTEND;TZID=America/New_York:20231202T210000
DTSTAMP:20260420T092728
CREATED:20231125T130547Z
LAST-MODIFIED:20231203T013553Z
UID:10000744-1701543600-1701550800@nasirdickerson.com
SUMMARY:A Real Christmas in Jazz w/ Anakai Jazz Ensemble
DESCRIPTION:
URL:https://nasirdickerson.com/event/a-real-christmas-in-jazz-w-anakai-jazz-ensemble/
LOCATION:Berean Bible Church 2675 E High St\, Pottstown\, PA\, United States
GEO:40.263457;-75.617195
END:VEVENT
BEGIN:VEVENT
DTSTART;VALUE=DATE:20231125
DTEND;VALUE=DATE:20231127
DTSTAMP:20260420T092728
CREATED:20231124T022046Z
LAST-MODIFIED:20231125T235045Z
UID:10000743-1700877600-1700963999@nasirdickerson.com
SUMMARY:Sax and DJ Party
DESCRIPTION:
URL:https://nasirdickerson.com/event/sax-and-dj-party-9/
END:VEVENT
BEGIN:VEVENT
DTSTART;VALUE=DATE:20231112
DTEND;VALUE=DATE:20231114
DTSTAMP:20260420T092728
CREATED:20230613T143605Z
LAST-MODIFIED:20231105T010606Z
UID:10000700-1699754400-1699840799@nasirdickerson.com
SUMMARY:With Maysa
DESCRIPTION:
URL:https://nasirdickerson.com/event/with-maysa-5/
LOCATION:Virginia Beach\nUnited States
END:VEVENT
BEGIN:VEVENT
DTSTART;VALUE=DATE:20231109
DTEND;VALUE=DATE:20231111
DTSTAMP:20260420T092728
CREATED:20231105T193550Z
LAST-MODIFIED:20231109T233604Z
UID:10000740-1699495200-1699581599@nasirdickerson.com
SUMMARY:With Gerald Veasley at South jazz Kitchen
DESCRIPTION:
URL:https://nasirdickerson.com/event/with-gerald-veasley-at-south-jazz-kitchen/
LOCATION:South Jazz Club 600 N Broad St\, Philadelphia\, PA\, United States
GEO:39.967935;-75.176073
END:VEVENT
BEGIN:VEVENT
DTSTART;TZID=America/New_York:20231104T180000
DTEND;TZID=America/New_York:20231104T233000
DTSTAMP:20260420T092728
CREATED:20230623T162053Z
LAST-MODIFIED:20231105T030550Z
UID:10000704-1699120800-1699140600@nasirdickerson.com
SUMMARY:Rhythmix Wedding
DESCRIPTION:
URL:https://nasirdickerson.com/event/rhythmix-wedding/
LOCATION:50 S Main St\, New Hope\, PA\, United States
GEO:40.357492;-74.998605
END:VEVENT
BEGIN:VEVENT
DTSTART;TZID=America/New_York:20231103T180000
DTEND;TZID=America/New_York:20231103T190000
DTSTAMP:20260420T092728
CREATED:20230823T062227Z
LAST-MODIFIED:20231103T225152Z
UID:10000717-1699034400-1699038000@nasirdickerson.com
SUMMARY:Nasir Dickerson at Painted Bride
DESCRIPTION:
URL:https://nasirdickerson.com/event/nasir-dickerson-at-painted-bride/
LOCATION:Painted Bride Art Center 5212 Market St\, Philadelphia\, PA\, United States
GEO:39.961352;-75.229334
END:VEVENT
BEGIN:VEVENT
DTSTART;TZID=America/New_York:20231028T170000
DTEND;TZID=America/New_York:20231028T180000
DTSTAMP:20260420T092728
CREATED:20231025T020642Z
LAST-MODIFIED:20231028T215139Z
UID:10000737-1698512400-1698516000@nasirdickerson.com
SUMMARY:Sax and DJ party
DESCRIPTION:
URL:https://nasirdickerson.com/event/sax-and-dj-party-6/
LOCATION:Private
END:VEVENT
BEGIN:VEVENT
DTSTART;TZID=America/New_York:20231027T200000
DTEND;TZID=America/New_York:20231027T235500
DTSTAMP:20260420T092728
CREATED:20231026T193605Z
LAST-MODIFIED:20231028T032046Z
UID:10000739-1698436800-1698450900@nasirdickerson.com
SUMMARY:Sax & DJ Party
DESCRIPTION:
URL:https://nasirdickerson.com/event/sax-dj-party-3/
LOCATION:The Highlawn\n1 Crest Dr\, West Orange\, NJ 07052\, United States
END:VEVENT
BEGIN:VEVENT
DTSTART;VALUE=DATE:20231027
DTEND;VALUE=DATE:20231030
DTSTAMP:20260420T092728
CREATED:20231025T020642Z
LAST-MODIFIED:20231026T183548Z
UID:10000738-1698372000-1698544799@nasirdickerson.com
SUMMARY:Sax and DJ party
DESCRIPTION:
URL:https://nasirdickerson.com/event/sax-and-dj-party-7/
LOCATION:Private
END:VEVENT
BEGIN:VEVENT
DTSTART;TZID=America/New_York:20231021T190000
DTEND;TZID=America/New_York:20231021T200000
DTSTAMP:20260420T092728
CREATED:20231001T180820Z
LAST-MODIFIED:20231021T233603Z
UID:10000736-1697914800-1697918400@nasirdickerson.com
SUMMARY:With Maysa Leak
DESCRIPTION:
URL:https://nasirdickerson.com/event/with-maysa-leak/
LOCATION:Union County Performing Arts Center\n360 Hamilton St\, Rahway\, NJ  07065\, United States
END:VEVENT
BEGIN:VEVENT
DTSTART;TZID=America/New_York:20231020T203000
DTEND;TZID=America/New_York:20231021T010000
DTSTAMP:20260420T092728
CREATED:20230923T062112Z
LAST-MODIFIED:20231013T162055Z
UID:10000735-1697833800-1697850000@nasirdickerson.com
SUMMARY:Sax and DJ party
DESCRIPTION:
URL:https://nasirdickerson.com/event/sax-and-dj-party-5/
LOCATION:Private
END:VEVENT
BEGIN:VEVENT
DTSTART;TZID=America/New_York:20231015T160000
DTEND;TZID=America/New_York:20231015T230000
DTSTAMP:20260420T092728
CREATED:20230918T155046Z
LAST-MODIFIED:20230926T155114Z
UID:10000726-1697385600-1697410800@nasirdickerson.com
SUMMARY:Sax & DJ Party
DESCRIPTION:
URL:https://nasirdickerson.com/event/sax-dj-party-2/
LOCATION:Private
END:VEVENT
BEGIN:VEVENT
DTSTART;TZID=America/New_York:20231014T190000
DTEND;TZID=America/New_York:20231014T233000
DTSTAMP:20260420T092728
CREATED:20230920T182047Z
LAST-MODIFIED:20231015T032044Z
UID:10000733-1697310000-1697326200@nasirdickerson.com
SUMMARY:Sax and DJ party
DESCRIPTION:
URL:https://nasirdickerson.com/event/sax-and-dj-party-4/
LOCATION:Private
END:VEVENT
BEGIN:VEVENT
DTSTART;TZID=America/New_York:20231013T180000
DTEND;TZID=America/New_York:20231013T235500
DTSTAMP:20260420T092728
CREATED:20230919T212044Z
LAST-MODIFIED:20231014T035045Z
UID:10000730-1697220000-1697241300@nasirdickerson.com
SUMMARY:Sax and DJ party
DESCRIPTION:
URL:https://nasirdickerson.com/event/sax-and-dj-party-2/
LOCATION:Private
END:VEVENT
BEGIN:VEVENT
DTSTART;TZID=America/New_York:20231008T170000
DTEND;TZID=America/New_York:20231008T180000
DTSTAMP:20260420T092728
CREATED:20230905T152205Z
LAST-MODIFIED:20231004T122045Z
UID:10000723-1696784400-1696788000@nasirdickerson.com
SUMMARY:Nasir Dickerson at UCC Annual Awards Banquet
DESCRIPTION:
URL:https://nasirdickerson.com/event/nasir-dickerson-at-ucc-annual-awards-banquet-2/
END:VEVENT
BEGIN:VEVENT
DTSTART;TZID=America/New_York:20231007T190000
DTEND;TZID=America/New_York:20231007T233000
DTSTAMP:20260420T092728
CREATED:20230920T182047Z
LAST-MODIFIED:20231008T032059Z
UID:10000732-1696705200-1696721400@nasirdickerson.com
SUMMARY:Sax and DJ party
DESCRIPTION:
URL:https://nasirdickerson.com/event/sax-and-dj-party-3/
LOCATION:Private
END:VEVENT
BEGIN:VEVENT
DTSTART;TZID=America/New_York:20231006T170000
DTEND;TZID=America/New_York:20231006T233000
DTSTAMP:20260420T092728
CREATED:20230919T025103Z
LAST-MODIFIED:20231007T030551Z
UID:10000729-1696611600-1696635000@nasirdickerson.com
SUMMARY:Sax and DJ party
DESCRIPTION:
URL:https://nasirdickerson.com/event/sax-and-dj-party/
LOCATION:Private
END:VEVENT
BEGIN:VEVENT
DTSTART;TZID=America/New_York:20230930T190000
DTEND;TZID=America/New_York:20230930T220000
DTSTAMP:20260420T092728
CREATED:20230913T185114Z
LAST-MODIFIED:20231001T015327Z
UID:10000724-1696100400-1696111200@nasirdickerson.com
SUMMARY:Sax summit
DESCRIPTION:
URL:https://nasirdickerson.com/event/sax-summit/
LOCATION:Nile Cafe\n6008 Germantown Ave\, Philadelphia\, PA  19144\, United States
END:VEVENT
BEGIN:VEVENT
DTSTART;TZID=America/New_York:20230930T170000
DTEND;TZID=America/New_York:20230930T180000
DTSTAMP:20260420T092728
CREATED:20230930T062227Z
LAST-MODIFIED:20230922T123549Z
UID:10000716-1696093200-1696096800@nasirdickerson.com
SUMMARY:Nasir Dickerson at Haddon Avenue Street Festival
DESCRIPTION:
URL:https://nasirdickerson.com/event/nasir-dickerson-at-haddon-avenue-street-festival/
LOCATION:Haddon Ave\nCamden\, NJ\, United States
END:VEVENT
BEGIN:VEVENT
DTSTART;TZID=America/New_York:20230930T170000
DTEND;TZID=America/New_York:20230930T180000
DTSTAMP:20260420T092728
CREATED:20230922T133553Z
LAST-MODIFIED:20230930T212122Z
UID:10000734-1696093200-1696096800@nasirdickerson.com
SUMMARY:Haddon Avenue Street Festival
DESCRIPTION:
URL:https://nasirdickerson.com/event/haddon-avenue-street-festival/
LOCATION:Haddon Ave\nCamden\, NJ\, United States
END:VEVENT
BEGIN:VEVENT
DTSTART;TZID=America/New_York:20230929T180000
DTEND;TZID=America/New_York:20230929T203000
DTSTAMP:20260420T092728
CREATED:20230920T182046Z
LAST-MODIFIED:20230930T000658Z
UID:10000731-1696010400-1696019400@nasirdickerson.com
SUMMARY:Lincoln Park Music Festival
DESCRIPTION:
URL:https://nasirdickerson.com/event/lincoln-park-music-festival/
LOCATION:494 Broad St\nNewark\, NJ\, United States
END:VEVENT
BEGIN:VEVENT
DTSTART;TZID=America/New_York:20230923T190000
DTEND;TZID=America/New_York:20230923T233000
DTSTAMP:20260420T092728
CREATED:20230919T015051Z
LAST-MODIFIED:20230924T025045Z
UID:10000728-1695495600-1695511800@nasirdickerson.com
SUMMARY:Sax and DJ Wedding Rhythm Mix
DESCRIPTION:
URL:https://nasirdickerson.com/event/sax-and-dj-wedding-rhythm-mix-2/
LOCATION:Private
END:VEVENT
BEGIN:VEVENT
DTSTART;TZID=America/New_York:20230922T183000
DTEND;TZID=America/New_York:20230922T223000
DTSTAMP:20260420T092728
CREATED:20230919T005100Z
LAST-MODIFIED:20230923T022054Z
UID:10000727-1695407400-1695421800@nasirdickerson.com
SUMMARY:Sax and DJ Wedding Rhythm Mix
DESCRIPTION:
URL:https://nasirdickerson.com/event/sax-and-dj-wedding-rhythm-mix/
LOCATION:Private
END:VEVENT
END:VCALENDAR