BEGIN:VCALENDAR
VERSION:2.0
PRODID:-//Nasir Dickerson - ECPv6.15.17.1//NONSGML v1.0//EN
CALSCALE:GREGORIAN
METHOD:PUBLISH
X-WR-CALNAME:Nasir Dickerson
X-ORIGINAL-URL:https://nasirdickerson.com
X-WR-CALDESC:Events for Nasir Dickerson
REFRESH-INTERVAL;VALUE=DURATION:PT1H
X-Robots-Tag:noindex
X-PUBLISHED-TTL:PT1H
BEGIN:VTIMEZONE
TZID:America/New_York
BEGIN:DAYLIGHT
TZOFFSETFROM:-0500
TZOFFSETTO:-0400
TZNAME:EDT
DTSTART:20210314T070000
END:DAYLIGHT
BEGIN:STANDARD
TZOFFSETFROM:-0400
TZOFFSETTO:-0500
TZNAME:EST
DTSTART:20211107T060000
END:STANDARD
BEGIN:DAYLIGHT
TZOFFSETFROM:-0500
TZOFFSETTO:-0400
TZNAME:EDT
DTSTART:20220313T070000
END:DAYLIGHT
BEGIN:STANDARD
TZOFFSETFROM:-0400
TZOFFSETTO:-0500
TZNAME:EST
DTSTART:20221106T060000
END:STANDARD
BEGIN:DAYLIGHT
TZOFFSETFROM:-0500
TZOFFSETTO:-0400
TZNAME:EDT
DTSTART:20230312T070000
END:DAYLIGHT
BEGIN:STANDARD
TZOFFSETFROM:-0400
TZOFFSETTO:-0500
TZNAME:EST
DTSTART:20231105T060000
END:STANDARD
BEGIN:DAYLIGHT
TZOFFSETFROM:-0500
TZOFFSETTO:-0400
TZNAME:EDT
DTSTART:20240310T070000
END:DAYLIGHT
BEGIN:STANDARD
TZOFFSETFROM:-0400
TZOFFSETTO:-0500
TZNAME:EST
DTSTART:20241103T060000
END:STANDARD
END:VTIMEZONE
BEGIN:VEVENT
DTSTART;TZID=America/New_York:20230427T190000
DTEND;TZID=America/New_York:20230427T200000
DTSTAMP:20260420T204148
CREATED:20230405T222513Z
LAST-MODIFIED:20230427T234452Z
UID:10000681-1682622000-1682625600@nasirdickerson.com
SUMMARY:With Maysa in Detroit
DESCRIPTION:
URL:https://nasirdickerson.com/event/with-maysa-in-detroit/
END:VEVENT
BEGIN:VEVENT
DTSTART;TZID=America/New_York:20230420T170000
DTEND;TZID=America/New_York:20230420T220000
DTSTAMP:20260420T204148
CREATED:20230322T030225Z
LAST-MODIFIED:20230421T015238Z
UID:10000672-1682010000-1682028000@nasirdickerson.com
SUMMARY:With Sun Ra Arkestra
DESCRIPTION:
URL:https://nasirdickerson.com/event/with-sun-ra-arkestra/
LOCATION:World Cafe\n6582 International Dr\, Unit 8218\, Orlando\, FL 32819\, United States
END:VEVENT
BEGIN:VEVENT
DTSTART;TZID=America/New_York:20230414T180000
DTEND;TZID=America/New_York:20230414T191500
DTSTAMP:20260420T204148
CREATED:20230225T025057Z
LAST-MODIFIED:20230404T183551Z
UID:10000662-1681495200-1681499700@nasirdickerson.com
SUMMARY:Woodmere museum with Warren Oree
DESCRIPTION:
URL:https://nasirdickerson.com/event/woodmere-museum-with-warren-oree/
LOCATION:Woodmere Art Museum\n9201 Germantown Ave\, Philadelphia\, PA  19118\, United States
END:VEVENT
BEGIN:VEVENT
DTSTART;TZID=America/New_York:20230413T100000
DTEND;TZID=America/New_York:20230413T110000
DTSTAMP:20260420T204148
CREATED:20230403T153639Z
LAST-MODIFIED:20230404T162219Z
UID:10000678-1681380000-1681383600@nasirdickerson.com
SUMMARY:Trio gig with Craig McGiver & Jim Holton
DESCRIPTION:
URL:https://nasirdickerson.com/event/trio-gig-with-craig-mcgiver-jim-holton/
LOCATION:1628 Ridge Ave\nPhiladelphia\, PA\, United States
END:VEVENT
BEGIN:VEVENT
DTSTART;TZID=America/New_York:20230410T190000
DTEND;TZID=America/New_York:20230410T200000
DTSTAMP:20260420T204148
CREATED:20230408T013548Z
LAST-MODIFIED:20230408T183223Z
UID:10000682-1681153200-1681156800@nasirdickerson.com
SUMMARY:With Maysa
DESCRIPTION:
URL:https://nasirdickerson.com/event/with-maysa/
LOCATION:Howard Theatre\n620 T St NW\, Washington\, DC  20001\, United States
END:VEVENT
BEGIN:VEVENT
DTSTART;TZID=America/New_York:20230409T113000
DTEND;TZID=America/New_York:20230409T123000
DTSTAMP:20260420T204148
CREATED:20230319T165044Z
LAST-MODIFIED:20230408T183223Z
UID:10000671-1681039800-1681043400@nasirdickerson.com
SUMMARY:JG Sky High trio
DESCRIPTION:
URL:https://nasirdickerson.com/event/jg-sky-high-trio/
END:VEVENT
BEGIN:VEVENT
DTSTART;VALUE=DATE:20230407
DTEND;VALUE=DATE:20230410
DTSTAMP:20260420T204148
CREATED:20230316T203931Z
LAST-MODIFIED:20230408T183223Z
UID:10000670-1680832800-1681005599@nasirdickerson.com
SUMMARY:South Carolina with Maysa
DESCRIPTION:
URL:https://nasirdickerson.com/event/south-carolina-with-maysa-2/
END:VEVENT
BEGIN:VEVENT
DTSTART;VALUE=DATE:20230407
DTEND;VALUE=DATE:20230409
DTSTAMP:20260420T204148
CREATED:20230316T203931Z
LAST-MODIFIED:20230407T231158Z
UID:10000669-1680832800-1680919199@nasirdickerson.com
SUMMARY:South Carolina with Maysa
DESCRIPTION:
URL:https://nasirdickerson.com/event/south-carolina-with-maysa/
END:VEVENT
BEGIN:VEVENT
DTSTART;TZID=America/New_York:20230405T180000
DTEND;TZID=America/New_York:20230405T220000
DTSTAMP:20260420T204148
CREATED:20230404T162218Z
LAST-MODIFIED:20230406T015055Z
UID:10000679-1680717600-1680732000@nasirdickerson.com
SUMMARY:Quartet at JG Sky Bar
DESCRIPTION:
URL:https://nasirdickerson.com/event/quartet-at-jg-sky-bar/
LOCATION:JG Skyhigh\n1 N 19th St\, FL 60\, Philadelphia\, PA  19103\, United States
END:VEVENT
BEGIN:VEVENT
DTSTART;TZID=America/New_York:20230325T190000
DTEND;TZID=America/New_York:20230325T210000
DTSTAMP:20260420T204148
CREATED:20230310T043642Z
LAST-MODIFIED:20230326T002236Z
UID:10000666-1679770800-1679778000@nasirdickerson.com
SUMMARY:Wilson’s Tina Marie/Rick James Tribute
DESCRIPTION:
URL:https://nasirdickerson.com/event/wilsons-tina-marie-rick-james-tribute/
LOCATION:Wilson’s Restaurant & Live Music Lounge\n709 S Warwick Rd\, Hi Nella\, NJ  08083\, United States
END:VEVENT
BEGIN:VEVENT
DTSTART;TZID=America/New_York:20230323T163000
DTEND;TZID=America/New_York:20230323T183000
DTSTAMP:20260420T204148
CREATED:20230304T003707Z
LAST-MODIFIED:20230323T221957Z
UID:10000664-1679589000-1679596200@nasirdickerson.com
SUMMARY:Rite of swing jazz cafe
DESCRIPTION:
URL:https://nasirdickerson.com/event/rite-of-swing-jazz-cafe/
LOCATION:Temple Performing Arts Center\n1837 N Broad St\, Philadelphia\, PA  19121\, United States
END:VEVENT
BEGIN:VEVENT
DTSTART;TZID=America/New_York:20230322T180000
DTEND;TZID=America/New_York:20230322T220000
DTSTAMP:20260420T204148
CREATED:20230313T220658Z
LAST-MODIFIED:20230323T010547Z
UID:10000667-1679508000-1679522400@nasirdickerson.com
SUMMARY:Trio at JG Sky Bar
DESCRIPTION:
URL:https://nasirdickerson.com/event/trio-at-jg-sky-bar-2/
LOCATION:JG Skyhigh\n1 N 19th St\, FL 60\, Philadelphia\, PA  19103\, United States
END:VEVENT
BEGIN:VEVENT
DTSTART;TZID=America/New_York:20230311T173000
DTEND;TZID=America/New_York:20230311T223000
DTSTAMP:20260420T204148
CREATED:20230307T040928Z
LAST-MODIFIED:20230312T030649Z
UID:10000665-1678555800-1678573800@nasirdickerson.com
SUMMARY:Private wedding
DESCRIPTION:
URL:https://nasirdickerson.com/event/private-wedding-2/
LOCATION:Cork Factory Hotel\n480 New Holland Ave\, Unit 3000\, Lancaster\, PA 17602\, United States
END:VEVENT
BEGIN:VEVENT
DTSTART;TZID=America/New_York:20230305T160000
DTEND;TZID=America/New_York:20230305T230000
DTSTAMP:20260420T204148
CREATED:20230222T040545Z
LAST-MODIFIED:20230306T032145Z
UID:10000661-1678032000-1678057200@nasirdickerson.com
SUMMARY:Day Party At Vera Bar & Grill
DESCRIPTION:
URL:https://nasirdickerson.com/event/day-party-at-vera-bar-grill/
LOCATION:Vera Bar & Grill\n2310 Marlton Pike W\, Cherry Hill\, NJ 08002\, United States
END:VEVENT
BEGIN:VEVENT
DTSTART;TZID=America/New_York:20230225T150000
DTEND;TZID=America/New_York:20230225T170000
DTSTAMP:20260420T204148
CREATED:20230222T040545Z
LAST-MODIFIED:20230225T214603Z
UID:10000660-1677337200-1677344400@nasirdickerson.com
SUMMARY:Celebration of life (private)
DESCRIPTION:
URL:https://nasirdickerson.com/event/celebration-of-life-private/
END:VEVENT
BEGIN:VEVENT
DTSTART;TZID=America/New_York:20230211T200000
DTEND;TZID=America/New_York:20230211T233000
DTSTAMP:20260420T204148
CREATED:20221118T165201Z
LAST-MODIFIED:20230212T042000Z
UID:10000648-1676145600-1676158200@nasirdickerson.com
SUMMARY:Nasir Dickerson Life Light Empower at Black Rangers Club Annual celebration
DESCRIPTION:
URL:https://nasirdickerson.com/event/nasir-dickerson-life-light-empower-at-black-rangers-club-annual-celebration/
LOCATION:Chase Center on the Riverfront\n815 Justison St\, Wilmington\, DE  19801\, United States
END:VEVENT
BEGIN:VEVENT
DTSTART;VALUE=DATE:20230210
DTEND;VALUE=DATE:20230212
DTSTAMP:20260420T204148
CREATED:20230124T155245Z
LAST-MODIFIED:20230210T234258Z
UID:10000655-1675994400-1676080799@nasirdickerson.com
SUMMARY:Bethesda Blues and Jazz Supper Club With Maysa
DESCRIPTION:
URL:https://nasirdickerson.com/event/bethesda-blues-and-jazz-supper-club-with-maysa/
LOCATION:Bethesda Blues & Jazz Supper Club\n7719 Wisconsin Ave\, Bethesda\, MD 20842\, United States
END:VEVENT
BEGIN:VEVENT
DTSTART;VALUE=DATE:20230209
DTEND;VALUE=DATE:20230211
DTSTAMP:20260420T204148
CREATED:20230124T155245Z
LAST-MODIFIED:20230209T235842Z
UID:10000656-1675908000-1675994399@nasirdickerson.com
SUMMARY:Motor City Casino with Maysa
DESCRIPTION:
URL:https://nasirdickerson.com/event/motor-city-casino-with-maysa/
LOCATION:Motor City Casino Hotel\n2901 Grand River Ave\, Detroit\, MI  48201\, United States
END:VEVENT
BEGIN:VEVENT
DTSTART;TZID=America/New_York:20230202T190000
DTEND;TZID=America/New_York:20230202T210000
DTSTAMP:20260420T204148
CREATED:20230201T233110Z
LAST-MODIFIED:20230203T011229Z
UID:10000657-1675364400-1675371600@nasirdickerson.com
SUMMARY:At DNC Senator Sharif Street Event
DESCRIPTION:
URL:https://nasirdickerson.com/event/at-dnc-senator-sharif-street-event/
END:VEVENT
BEGIN:VEVENT
DTSTART;TZID=America/New_York:20230120T220000
DTEND;TZID=America/New_York:20230121T020000
DTSTAMP:20260420T204148
CREATED:20230106T010843Z
LAST-MODIFIED:20230121T065114Z
UID:10000653-1674252000-1674266400@nasirdickerson.com
SUMMARY:Performing at TIME
DESCRIPTION:
URL:https://nasirdickerson.com/event/performing-at-time/
LOCATION:Time\n1315 Sansom St\, Philadelphia\, PA  19107\, United States
END:VEVENT
BEGIN:VEVENT
DTSTART;TZID=America/New_York:20230115T180000
DTEND;TZID=America/New_York:20230115T220000
DTSTAMP:20260420T204148
CREATED:20221202T223543Z
LAST-MODIFIED:20230116T021119Z
UID:10000650-1673805600-1673820000@nasirdickerson.com
SUMMARY:With Vocalist Warren Cooper at South
DESCRIPTION:
URL:https://nasirdickerson.com/event/with-vocalist-warren-cooper-at-south-2/
LOCATION:South Jazz Club\n600 N Broad St\, Philadelphia\, PA  19130\, United States
END:VEVENT
BEGIN:VEVENT
DTSTART;TZID=America/New_York:20230114T180000
DTEND;TZID=America/New_York:20230114T220000
DTSTAMP:20260420T204148
CREATED:20221202T223543Z
LAST-MODIFIED:20230115T025951Z
UID:10000649-1673719200-1673733600@nasirdickerson.com
SUMMARY:With Vocalist Warren Cooper at South
DESCRIPTION:
URL:https://nasirdickerson.com/event/with-vocalist-warren-cooper-at-south/
LOCATION:South Jazz Club\n600 N Broad St\, Philadelphia\, PA  19130\, United States
END:VEVENT
BEGIN:VEVENT
DTSTART;TZID=America/New_York:20230107T220000
DTEND;TZID=America/New_York:20230108T020000
DTSTAMP:20260420T204148
CREATED:20230107T232113Z
LAST-MODIFIED:20230108T062102Z
UID:10000654-1673128800-1673143200@nasirdickerson.com
SUMMARY:TIME with Marlon Lewis
DESCRIPTION:
URL:https://nasirdickerson.com/event/time-with-marlon-lewis/
END:VEVENT
BEGIN:VEVENT
DTSTART;TZID=America/New_York:20230104T180000
DTEND;TZID=America/New_York:20230104T220000
DTSTAMP:20260420T204148
CREATED:20230102T120942Z
LAST-MODIFIED:20230105T015049Z
UID:10000652-1672855200-1672869600@nasirdickerson.com
SUMMARY:Trio at JG Sky Bar
DESCRIPTION:
URL:https://nasirdickerson.com/event/trio-at-jg-sky-bar/
LOCATION:JG Skyhigh\n1 N 19th St\, FL 60\, Philadelphia\, PA  19103\, United States
END:VEVENT
BEGIN:VEVENT
DTSTART;TZID=America/New_York:20221230T190000
DTEND;TZID=America/New_York:20221230T200000
DTSTAMP:20260420T204148
CREATED:20221007T043525Z
LAST-MODIFIED:20221231T000738Z
UID:10000641-1672426800-1672430400@nasirdickerson.com
SUMMARY:Nasir Dickerson Life Light Empower at Boss mentors sneakers Gala
DESCRIPTION:
URL:https://nasirdickerson.com/event/nasir-dickerson-life-light-empower-at-boss-mentors-sneakers-gala/
LOCATION:Camden County Boathouse\n7050 N Park Dr\, Pennsauken\, NJ  08109\, United States
END:VEVENT
BEGIN:VEVENT
DTSTART;TZID=America/New_York:20221213T180000
DTEND;TZID=America/New_York:20221213T190000
DTSTAMP:20260420T204148
CREATED:20221207T134009Z
LAST-MODIFIED:20221212T021200Z
UID:10000651-1670954400-1670958000@nasirdickerson.com
SUMMARY:Kimmel center performance with Donald Dumpson
DESCRIPTION:
URL:https://nasirdickerson.com/event/kimmel-center-performance-with-donald-dumpson/
END:VEVENT
BEGIN:VEVENT
DTSTART;TZID=America/New_York:20221210T200000
DTEND;TZID=America/New_York:20221210T220000
DTSTAMP:20260420T204148
CREATED:20221005T131045Z
LAST-MODIFIED:20221005T131045Z
UID:10000640-1670702400-1670709600@nasirdickerson.com
SUMMARY:Nasir Dickerson at Alpha Phi Alpha Gala
DESCRIPTION:
URL:https://nasirdickerson.com/event/nasir-dickerson-at-alpha-phi-alpha-gala-2/
LOCATION:Rutgers University—Camden\n303 Cooper St\, Camden\, NJ  08102\, United States
END:VEVENT
BEGIN:VEVENT
DTSTART;TZID=America/New_York:20221208T180000
DTEND;TZID=America/New_York:20221208T190000
DTSTAMP:20260420T204148
CREATED:20221110T035949Z
LAST-MODIFIED:20221208T233653Z
UID:10000645-1670522400-1670526000@nasirdickerson.com
SUMMARY:Album Release Party at WRTI Radio Station
DESCRIPTION:
URL:https://nasirdickerson.com/event/album-release-party-at-wrti-radio-station/
END:VEVENT
BEGIN:VEVENT
DTSTART;TZID=America/New_York:20221203T180000
DTEND;TZID=America/New_York:20221203T190000
DTSTAMP:20260420T204148
CREATED:20221111T143555Z
LAST-MODIFIED:20221203T235153Z
UID:10000647-1670090400-1670094000@nasirdickerson.com
SUMMARY:Wilson’s with Angie stone
DESCRIPTION:
URL:https://nasirdickerson.com/event/wilsons-with-angie-stone/
LOCATION:Wilson’s Restaurant & Live Music Lounge\n709 S Warwick Rd\, Hi Nella\, NJ  08083\, United States
END:VEVENT
BEGIN:VEVENT
DTSTART;TZID=America/New_York:20221202T190000
DTEND;TZID=America/New_York:20221202T200000
DTSTAMP:20260420T204148
CREATED:20221111T143555Z
LAST-MODIFIED:20221202T235215Z
UID:10000646-1670007600-1670011200@nasirdickerson.com
SUMMARY:Private event
DESCRIPTION:
URL:https://nasirdickerson.com/event/private-event/
LOCATION:Conneticut\nTrolley Crossing Ln\, Middletown\, CT  06457\, United States
END:VEVENT
END:VCALENDAR