BEGIN:VCALENDAR
VERSION:2.0
PRODID:-//Nasir Dickerson - ECPv6.15.17.1//NONSGML v1.0//EN
CALSCALE:GREGORIAN
METHOD:PUBLISH
X-ORIGINAL-URL:https://nasirdickerson.com
X-WR-CALDESC:Events for Nasir Dickerson
REFRESH-INTERVAL;VALUE=DURATION:PT1H
X-Robots-Tag:noindex
X-PUBLISHED-TTL:PT1H
BEGIN:VTIMEZONE
TZID:America/New_York
BEGIN:DAYLIGHT
TZOFFSETFROM:-0500
TZOFFSETTO:-0400
TZNAME:EDT
DTSTART:20220313T070000
END:DAYLIGHT
BEGIN:STANDARD
TZOFFSETFROM:-0400
TZOFFSETTO:-0500
TZNAME:EST
DTSTART:20221106T060000
END:STANDARD
BEGIN:DAYLIGHT
TZOFFSETFROM:-0500
TZOFFSETTO:-0400
TZNAME:EDT
DTSTART:20230312T070000
END:DAYLIGHT
BEGIN:STANDARD
TZOFFSETFROM:-0400
TZOFFSETTO:-0500
TZNAME:EST
DTSTART:20231105T060000
END:STANDARD
BEGIN:DAYLIGHT
TZOFFSETFROM:-0500
TZOFFSETTO:-0400
TZNAME:EDT
DTSTART:20240310T070000
END:DAYLIGHT
BEGIN:STANDARD
TZOFFSETFROM:-0400
TZOFFSETTO:-0500
TZNAME:EST
DTSTART:20241103T060000
END:STANDARD
END:VTIMEZONE
BEGIN:VEVENT
DTSTART;TZID=America/New_York:20230603T170000
DTEND;TZID=America/New_York:20230603T220000
DTSTAMP:20260425T111526
CREATED:20230504T153722Z
LAST-MODIFIED:20230604T010649Z
UID:10000690-1685811600-1685829600@nasirdickerson.com
SUMMARY:Private wedding
DESCRIPTION:
URL:https://nasirdickerson.com/event/private-wedding-5/
LOCATION:PA
END:VEVENT
BEGIN:VEVENT
DTSTART;TZID=America/New_York:20230607T180000
DTEND;TZID=America/New_York:20230607T220000
DTSTAMP:20260425T111526
CREATED:20230604T213617Z
LAST-MODIFIED:20230608T015057Z
UID:10000695-1686160800-1686175200@nasirdickerson.com
SUMMARY:Trio at JG Sky Bar
DESCRIPTION:
URL:https://nasirdickerson.com/event/trio-at-jg-sky-bar-3/
LOCATION:JG Skyhigh\n1 N 19th St\, FL 60\, Philadelphia\, PA  19103\, United States
END:VEVENT
BEGIN:VEVENT
DTSTART;TZID=America/New_York:20230608T190000
DTEND;TZID=America/New_York:20230608T200000
DTSTAMP:20260425T111526
CREATED:20230601T040601Z
LAST-MODIFIED:20230608T235045Z
UID:10000693-1686250800-1686254400@nasirdickerson.com
SUMMARY:With Sun Ra Arkestra Discover Jazz Festival
DESCRIPTION:
URL:https://nasirdickerson.com/event/with-sun-ra-arkestra-discover-jazz-festival/
LOCATION:Burlington\nUnited States
END:VEVENT
BEGIN:VEVENT
DTSTART;TZID=America/New_York:20230609T190000
DTEND;TZID=America/New_York:20230609T200000
DTSTAMP:20260425T111526
CREATED:20230601T040601Z
LAST-MODIFIED:20230609T230839Z
UID:10000694-1686337200-1686340800@nasirdickerson.com
SUMMARY:With Sun Ra Arkestra at the Drake
DESCRIPTION:
URL:https://nasirdickerson.com/event/with-sun-ra-arkestra-at-the-drake/
LOCATION:Amherst\nUnited States
END:VEVENT
BEGIN:VEVENT
DTSTART;VALUE=DATE:20230610
DTEND;VALUE=DATE:20230612
DTSTAMP:20260425T111526
CREATED:20230325T034131Z
LAST-MODIFIED:20230610T230603Z
UID:10000677-1686362400-1686448799@nasirdickerson.com
SUMMARY:Graduation party
DESCRIPTION:
URL:https://nasirdickerson.com/event/graduation-party/
LOCATION:PA
END:VEVENT
BEGIN:VEVENT
DTSTART;TZID=America/New_York:20230610T180000
DTEND;TZID=America/New_York:20230610T235500
DTSTAMP:20260425T111526
CREATED:20230415T002850Z
LAST-MODIFIED:20230611T030636Z
UID:10000683-1686420000-1686441300@nasirdickerson.com
SUMMARY:Private wedding
DESCRIPTION:
URL:https://nasirdickerson.com/event/private-wedding-3/
LOCATION:Bellevue Hall\n901 Philadelphia Pike\, Wilmington\, DE  19809\, United States
END:VEVENT
BEGIN:VEVENT
DTSTART;TZID=America/New_York:20230615T180000
DTEND;TZID=America/New_York:20230615T190000
DTSTAMP:20260425T111526
CREATED:20230502T013612Z
LAST-MODIFIED:20230615T220744Z
UID:10000688-1686852000-1686855600@nasirdickerson.com
SUMMARY:With Sun Ra Arkestra
DESCRIPTION:
URL:https://nasirdickerson.com/event/with-sun-ra-arkestra-6/
LOCATION:Times Square\nManhattan\, New York\, NY\, United States
END:VEVENT
BEGIN:VEVENT
DTSTART;TZID=America/New_York:20230617T180000
DTEND;TZID=America/New_York:20230617T190000
DTSTAMP:20260425T111526
CREATED:20230531T012104Z
LAST-MODIFIED:20230617T220635Z
UID:10000692-1687024800-1687028400@nasirdickerson.com
SUMMARY:With Arnetta Johnson at Wiggins Park
DESCRIPTION:
URL:https://nasirdickerson.com/event/with-arnetta-johnson-at-wiggins-park/
LOCATION:PA
END:VEVENT
BEGIN:VEVENT
DTSTART;TZID=America/New_York:20230618T120000
DTEND;TZID=America/New_York:20230618T190000
DTSTAMP:20260425T111526
CREATED:20230520T143656Z
LAST-MODIFIED:20230618T222119Z
UID:10000691-1687089600-1687114800@nasirdickerson.com
SUMMARY:Juneteenth at Farnham Park
DESCRIPTION:
URL:https://nasirdickerson.com/event/juneteenth-at-farnham-park/
LOCATION:PA
END:VEVENT
BEGIN:VEVENT
DTSTART;TZID=America/New_York:20230624T160000
DTEND;TZID=America/New_York:20230624T170000
DTSTAMP:20260425T111526
CREATED:20230607T123611Z
LAST-MODIFIED:20230624T195418Z
UID:10000696-1687622400-1687626000@nasirdickerson.com
SUMMARY:With Jeff Bradshaw
DESCRIPTION:
URL:https://nasirdickerson.com/event/with-jeff-bradshaw/
LOCATION:Cavanaugh’s Riverdeck\n417 N Columbus Blvd\, Philadelphia\, PA 19147\, United States
END:VEVENT
END:VCALENDAR