BEGIN:VCALENDAR
VERSION:2.0
PRODID:-//Nasir Dickerson - ECPv6.15.17.1//NONSGML v1.0//EN
CALSCALE:GREGORIAN
METHOD:PUBLISH
X-ORIGINAL-URL:https://nasirdickerson.com
X-WR-CALDESC:Events for Nasir Dickerson
REFRESH-INTERVAL;VALUE=DURATION:PT1H
X-Robots-Tag:noindex
X-PUBLISHED-TTL:PT1H
BEGIN:VTIMEZONE
TZID:America/New_York
BEGIN:DAYLIGHT
TZOFFSETFROM:-0500
TZOFFSETTO:-0400
TZNAME:EDT
DTSTART:20220313T070000
END:DAYLIGHT
BEGIN:STANDARD
TZOFFSETFROM:-0400
TZOFFSETTO:-0500
TZNAME:EST
DTSTART:20221106T060000
END:STANDARD
BEGIN:DAYLIGHT
TZOFFSETFROM:-0500
TZOFFSETTO:-0400
TZNAME:EDT
DTSTART:20230312T070000
END:DAYLIGHT
BEGIN:STANDARD
TZOFFSETFROM:-0400
TZOFFSETTO:-0500
TZNAME:EST
DTSTART:20231105T060000
END:STANDARD
BEGIN:DAYLIGHT
TZOFFSETFROM:-0500
TZOFFSETTO:-0400
TZNAME:EDT
DTSTART:20240310T070000
END:DAYLIGHT
BEGIN:STANDARD
TZOFFSETFROM:-0400
TZOFFSETTO:-0500
TZNAME:EST
DTSTART:20241103T060000
END:STANDARD
END:VTIMEZONE
BEGIN:VEVENT
DTSTART;TZID=America/New_York:20231202T190000
DTEND;TZID=America/New_York:20231202T210000
DTSTAMP:20260423T063922
CREATED:20231125T130547Z
LAST-MODIFIED:20231203T013553Z
UID:10000744-1701543600-1701550800@nasirdickerson.com
SUMMARY:A Real Christmas in Jazz w/ Anakai Jazz Ensemble
DESCRIPTION:
URL:https://nasirdickerson.com/event/a-real-christmas-in-jazz-w-anakai-jazz-ensemble/
LOCATION:Berean Bible Church 2675 E High St\, Pottstown\, PA\, United States
GEO:40.263457;-75.617195
END:VEVENT
BEGIN:VEVENT
DTSTART;VALUE=DATE:20231215
DTEND;VALUE=DATE:20231220
DTSTAMP:20260423T063922
CREATED:20231130T153543Z
LAST-MODIFIED:20231215T120602Z
UID:10000745-1702605600-1702951199@nasirdickerson.com
SUMMARY:Sax and DJ party
DESCRIPTION:
URL:https://nasirdickerson.com/event/sax-and-dj-party-10/
LOCATION:Private
END:VEVENT
BEGIN:VEVENT
DTSTART;TZID=America/New_York:20231229T190000
DTEND;TZID=America/New_York:20231229T200000
DTSTAMP:20260423T063922
CREATED:20230913T195055Z
LAST-MODIFIED:20231220T120551Z
UID:10000725-1703876400-1703880000@nasirdickerson.com
SUMMARY:Nasir Dickerson Life Light Empower at Boss mentors sneakers Gala
DESCRIPTION:
URL:https://nasirdickerson.com/event/nasir-dickerson-life-light-empower-at-boss-mentors-sneakers-gala-2/
LOCATION:DoubleTree by Hilton Cherry Hill Philadelphia 2349 Marlton Pike W\, Cherry Hill\, NJ\, United States
GEO:39.931978;-75.027557
END:VEVENT
END:VCALENDAR