BEGIN:VCALENDAR
VERSION:2.0
PRODID:-//Nasir Dickerson - ECPv6.15.17.1//NONSGML v1.0//EN
CALSCALE:GREGORIAN
METHOD:PUBLISH
X-WR-CALNAME:Nasir Dickerson
X-ORIGINAL-URL:https://nasirdickerson.com
X-WR-CALDESC:Events for Nasir Dickerson
REFRESH-INTERVAL;VALUE=DURATION:PT1H
X-Robots-Tag:noindex
X-PUBLISHED-TTL:PT1H
BEGIN:VTIMEZONE
TZID:US/Eastern
BEGIN:DAYLIGHT
TZOFFSETFROM:-0500
TZOFFSETTO:-0400
TZNAME:EDT
DTSTART:20230312T070000
END:DAYLIGHT
BEGIN:STANDARD
TZOFFSETFROM:-0400
TZOFFSETTO:-0500
TZNAME:EST
DTSTART:20231105T060000
END:STANDARD
BEGIN:DAYLIGHT
TZOFFSETFROM:-0500
TZOFFSETTO:-0400
TZNAME:EDT
DTSTART:20240310T070000
END:DAYLIGHT
BEGIN:STANDARD
TZOFFSETFROM:-0400
TZOFFSETTO:-0500
TZNAME:EST
DTSTART:20241103T060000
END:STANDARD
BEGIN:DAYLIGHT
TZOFFSETFROM:-0500
TZOFFSETTO:-0400
TZNAME:EDT
DTSTART:20250309T070000
END:DAYLIGHT
BEGIN:STANDARD
TZOFFSETFROM:-0400
TZOFFSETTO:-0500
TZNAME:EST
DTSTART:20251102T060000
END:STANDARD
END:VTIMEZONE
BEGIN:VTIMEZONE
TZID:America/New_York
BEGIN:DAYLIGHT
TZOFFSETFROM:-0500
TZOFFSETTO:-0400
TZNAME:EDT
DTSTART:20210314T070000
END:DAYLIGHT
BEGIN:STANDARD
TZOFFSETFROM:-0400
TZOFFSETTO:-0500
TZNAME:EST
DTSTART:20211107T060000
END:STANDARD
BEGIN:DAYLIGHT
TZOFFSETFROM:-0500
TZOFFSETTO:-0400
TZNAME:EDT
DTSTART:20220313T070000
END:DAYLIGHT
BEGIN:STANDARD
TZOFFSETFROM:-0400
TZOFFSETTO:-0500
TZNAME:EST
DTSTART:20221106T060000
END:STANDARD
BEGIN:DAYLIGHT
TZOFFSETFROM:-0500
TZOFFSETTO:-0400
TZNAME:EDT
DTSTART:20230312T070000
END:DAYLIGHT
BEGIN:STANDARD
TZOFFSETFROM:-0400
TZOFFSETTO:-0500
TZNAME:EST
DTSTART:20231105T060000
END:STANDARD
BEGIN:DAYLIGHT
TZOFFSETFROM:-0500
TZOFFSETTO:-0400
TZNAME:EDT
DTSTART:20240310T070000
END:DAYLIGHT
BEGIN:STANDARD
TZOFFSETFROM:-0400
TZOFFSETTO:-0500
TZNAME:EST
DTSTART:20241103T060000
END:STANDARD
END:VTIMEZONE
BEGIN:VEVENT
DTSTART;TZID=US/Eastern:20240411T190000
DTEND;TZID=US/Eastern:20240411T235500
DTSTAMP:20260420T181131
CREATED:20240407T142056Z
LAST-MODIFIED:20240412T035057Z
UID:10000769-1712862000-1712879700@nasirdickerson.com
SUMMARY:With Eric Wortham II at South Jazz Club
DESCRIPTION:
URL:https://nasirdickerson.com/event/with-eric-wortham-ii-at-south-jazz-club/
LOCATION:South Jazz Club\n600 N Broad St\, Philadelphia\, PA  19130\, United States
END:VEVENT
BEGIN:VEVENT
DTSTART;TZID=America/New_York:20230701T190000
DTEND;TZID=America/New_York:20230701T200000
DTSTAMP:20260420T181131
CREATED:20230424T200611Z
LAST-MODIFIED:20230701T232122Z
UID:10000686-1688238000-1688241600@nasirdickerson.com
SUMMARY:South Jazz Kitchen with V. Shane
DESCRIPTION:
URL:https://nasirdickerson.com/event/south-jazz-kitchen-with-v-shane/
LOCATION:South Jazz Club\n600 N Broad St\, Philadelphia\, PA  19130\, United States
END:VEVENT
BEGIN:VEVENT
DTSTART;TZID=America/New_York:20230115T180000
DTEND;TZID=America/New_York:20230115T220000
DTSTAMP:20260420T181131
CREATED:20221202T223543Z
LAST-MODIFIED:20230116T021119Z
UID:10000650-1673805600-1673820000@nasirdickerson.com
SUMMARY:With Vocalist Warren Cooper at South
DESCRIPTION:
URL:https://nasirdickerson.com/event/with-vocalist-warren-cooper-at-south-2/
LOCATION:South Jazz Club\n600 N Broad St\, Philadelphia\, PA  19130\, United States
END:VEVENT
BEGIN:VEVENT
DTSTART;TZID=America/New_York:20230114T180000
DTEND;TZID=America/New_York:20230114T220000
DTSTAMP:20260420T181131
CREATED:20221202T223543Z
LAST-MODIFIED:20230115T025951Z
UID:10000649-1673719200-1673733600@nasirdickerson.com
SUMMARY:With Vocalist Warren Cooper at South
DESCRIPTION:
URL:https://nasirdickerson.com/event/with-vocalist-warren-cooper-at-south/
LOCATION:South Jazz Club\n600 N Broad St\, Philadelphia\, PA  19130\, United States
END:VEVENT
BEGIN:VEVENT
DTSTART;TZID=America/New_York:20221027T180000
DTEND;TZID=America/New_York:20221027T220000
DTSTAMP:20260420T181131
CREATED:20220930T192349Z
LAST-MODIFIED:20221028T012213Z
UID:10000631-1666893600-1666908000@nasirdickerson.com
SUMMARY:Nasir Dickerson with Aaron Graves Band
DESCRIPTION:
URL:https://nasirdickerson.com/event/nasir-dickerson-with-aaron-graves-band/
LOCATION:South Jazz Club\n600 N Broad St\, Philadelphia\, PA  19130\, United States
END:VEVENT
END:VCALENDAR